BEGIN:VCALENDAR
VERSION:2.0
PRODID:-//Belle Fiore Winery &amp; Vineyard - ECPv6.15.20//NONSGML v1.0//EN
CALSCALE:GREGORIAN
METHOD:PUBLISH
X-WR-CALNAME:Belle Fiore Winery &amp; Vineyard
X-ORIGINAL-URL:https://bellefiorewine.com
X-WR-CALDESC:Events for Belle Fiore Winery &amp; Vineyard
REFRESH-INTERVAL;VALUE=DURATION:PT1H
X-Robots-Tag:noindex
X-PUBLISHED-TTL:PT1H
BEGIN:VTIMEZONE
TZID:America/Los_Angeles
BEGIN:DAYLIGHT
TZOFFSETFROM:-0800
TZOFFSETTO:-0700
TZNAME:PDT
DTSTART:20250309T100000
END:DAYLIGHT
BEGIN:STANDARD
TZOFFSETFROM:-0700
TZOFFSETTO:-0800
TZNAME:PST
DTSTART:20251102T090000
END:STANDARD
BEGIN:DAYLIGHT
TZOFFSETFROM:-0800
TZOFFSETTO:-0700
TZNAME:PDT
DTSTART:20260308T100000
END:DAYLIGHT
BEGIN:STANDARD
TZOFFSETFROM:-0700
TZOFFSETTO:-0800
TZNAME:PST
DTSTART:20261101T090000
END:STANDARD
BEGIN:DAYLIGHT
TZOFFSETFROM:-0800
TZOFFSETTO:-0700
TZNAME:PDT
DTSTART:20270314T100000
END:DAYLIGHT
BEGIN:STANDARD
TZOFFSETFROM:-0700
TZOFFSETTO:-0800
TZNAME:PST
DTSTART:20271107T090000
END:STANDARD
END:VTIMEZONE
BEGIN:VEVENT
DTSTART;TZID=America/Los_Angeles:20260411T173000
DTEND;TZID=America/Los_Angeles:20260411T193000
DTSTAMP:20260424T032941
CREATED:20260313T232423Z
LAST-MODIFIED:20260407T194814Z
UID:10010668-1775928600-1775935800@bellefiorewine.com
SUMMARY:Live Music: The Brisbane Project
DESCRIPTION:Michael Ian Brisbane on Lead Guitar and Mike Pugh on Bass. It’s Blues and Texas Rock at its best!
URL:https://bellefiorewine.com/event/live-music-the-brisbane-project/
CATEGORIES:Live Music
ATTACH;FMTTYPE=image/jpeg:https://bellefiorewine.com/wp-content/uploads/2026/03/657504342_1574717274663426_1195774201653945766_n.jpg
END:VEVENT
BEGIN:VEVENT
DTSTART;TZID=America/Los_Angeles:20260412T170000
DTEND;TZID=America/Los_Angeles:20260412T190000
DTSTAMP:20260424T032941
CREATED:20260313T232532Z
LAST-MODIFIED:20260313T232532Z
UID:10010669-1776013200-1776020400@bellefiorewine.com
SUMMARY:Live Music: The Giantess
DESCRIPTION:The Giantess is a husband-and-wife musical duo with a full-band sound from Southern Oregon’s Rogue Valley. They play all original music that ranges from dreamy Pop Rock to sultry Jazz and brooding Blues Rock\, with hints of Country and Rockabilly to boot.
URL:https://bellefiorewine.com/event/live-music-the-giantess/
CATEGORIES:Live Music
ATTACH;FMTTYPE=image/jpeg:https://bellefiorewine.com/wp-content/uploads/2024/10/Giantess.jpg
END:VEVENT
BEGIN:VEVENT
DTSTART;TZID=America/Los_Angeles:20260416T173000
DTEND;TZID=America/Los_Angeles:20260416T193000
DTSTAMP:20260424T032941
CREATED:20260313T232922Z
LAST-MODIFIED:20260324T203923Z
UID:10010670-1776360600-1776367800@bellefiorewine.com
SUMMARY:Live Music: John Johns
DESCRIPTION:John Johns utilizes his prodigious classical guitar training to blend fingerstyle guitar with his nature-centric folk style of playing. Upbeat and introspective\, his songwriting is best described by fans as “a dark side to folk and americana music with live performances that often intertwine music with storytelling.”
URL:https://bellefiorewine.com/event/live-music-john-johns/
CATEGORIES:Live Music
ATTACH;FMTTYPE=image/jpeg:https://bellefiorewine.com/wp-content/uploads/2023/12/john-johns.jpg
END:VEVENT
BEGIN:VEVENT
DTSTART;TZID=America/Los_Angeles:20260417T173000
DTEND;TZID=America/Los_Angeles:20260417T193000
DTSTAMP:20260424T032941
CREATED:20260313T233258Z
LAST-MODIFIED:20260313T233258Z
UID:10010671-1776447000-1776454200@bellefiorewine.com
SUMMARY:Live Music: Maurizio Nadalet
DESCRIPTION:Italian classically-trained pianist and vocalist Maurizio Nadalet brings his trademark flair to an exuberant evening of Italian and American standards.
URL:https://bellefiorewine.com/event/live-music-maurizio-nadalet-2/
CATEGORIES:Live Music
ATTACH;FMTTYPE=image/jpeg:https://bellefiorewine.com/wp-content/uploads/2024/10/maurizio-photo-scaled.jpg
END:VEVENT
BEGIN:VEVENT
DTSTART;TZID=America/Los_Angeles:20260419T170000
DTEND;TZID=America/Los_Angeles:20260419T190000
DTSTAMP:20260424T032941
CREATED:20260313T234155Z
LAST-MODIFIED:20260313T234155Z
UID:10010673-1776618000-1776625200@bellefiorewine.com
SUMMARY:Live Music: Simple Dreams Trio
DESCRIPTION:A streamlined\, but no less joyous\, tribute to Linda Ronstadt’s greatest hits!
URL:https://bellefiorewine.com/event/live-music-simple-dreams-trio/
CATEGORIES:Live Music
ATTACH;FMTTYPE=image/jpeg:https://bellefiorewine.com/wp-content/uploads/2026/03/SimpleDreamsTrio.jpg
END:VEVENT
BEGIN:VEVENT
DTSTART;TZID=America/Los_Angeles:20260423T173000
DTEND;TZID=America/Los_Angeles:20260423T193000
DTSTAMP:20260424T032941
CREATED:20260313T234419Z
LAST-MODIFIED:20260324T204047Z
UID:10010674-1776965400-1776972600@bellefiorewine.com
SUMMARY:Live Music: Tres Palomas
DESCRIPTION:Tres Palomas is comprised of Mari Simone on vocals\, Sean Chon on upright bass & Jason Wolverton on guitar\, specializing in Bossa Nova\, Ballads & Early Jazz. Their repertoire is a wonderful blend of these genres\, performed in French\, Portuguese\, English & Spanish.
URL:https://bellefiorewine.com/event/live-music-tres-palomas/
CATEGORIES:Live Music
ATTACH;FMTTYPE=image/jpeg:https://bellefiorewine.com/wp-content/uploads/2026/03/TresPalomasPic.jpg
END:VEVENT
BEGIN:VEVENT
DTSTART;TZID=America/Los_Angeles:20260424T173000
DTEND;TZID=America/Los_Angeles:20260424T193000
DTSTAMP:20260424T032941
CREATED:20260320T201852Z
LAST-MODIFIED:20260320T201852Z
UID:10010677-1777051800-1777059000@bellefiorewine.com
SUMMARY:Live Music: Lisa & Dean
DESCRIPTION:The duo features Lisa Udall on lead vocals and Dean Angermeier on keyboard & vocals. The group plays a fun\, eclectic mix of pop\, jazz\, blues\, R&B\, & country.
URL:https://bellefiorewine.com/event/live-music-lisa-dean/
CATEGORIES:Live Music
ATTACH;FMTTYPE=image/jpeg:https://bellefiorewine.com/wp-content/uploads/2024/05/lisa-and-dean.jpg
END:VEVENT
BEGIN:VEVENT
DTSTART;TZID=America/Los_Angeles:20260425T173000
DTEND;TZID=America/Los_Angeles:20260425T193000
DTSTAMP:20260424T032941
CREATED:20260320T202013Z
LAST-MODIFIED:20260320T202013Z
UID:10010678-1777138200-1777145400@bellefiorewine.com
SUMMARY:Live Music: 12 Bars Deep
DESCRIPTION:12 Bars Deep is a good time-music dance band designed to rock the room. They cover Blues\, R&B and Swing by some of the top artists you know and love. Decades of live performance by the band members creates a potent mix for a great party.
URL:https://bellefiorewine.com/event/live-music-12-bars-deep/
CATEGORIES:Live Music
ATTACH;FMTTYPE=image/jpeg:https://bellefiorewine.com/wp-content/uploads/2025/07/12BarsDeep.jpg
END:VEVENT
BEGIN:VEVENT
DTSTART;TZID=America/Los_Angeles:20260426T170000
DTEND;TZID=America/Los_Angeles:20260426T190000
DTSTAMP:20260424T032941
CREATED:20260320T202207Z
LAST-MODIFIED:20260320T202207Z
UID:10010679-1777222800-1777230000@bellefiorewine.com
SUMMARY:Live Music: Dr. Pain & the Remedy
DESCRIPTION:Classic rock cover band that specializes in power pop\, folk\, country\, rock & roll\, and blues. All musicians play and sing\, resulting in harmonies and varied vocal arrangements. With many years of combined musical experience\, the band is tight and the show is engaging. \nCover charge: $6 non-members\, free for members.
URL:https://bellefiorewine.com/event/live-music-dr-pain-the-remedy/
CATEGORIES:Live Music
ATTACH;FMTTYPE=image/jpeg:https://bellefiorewine.com/wp-content/uploads/2025/06/DrPainAndTheRemedy.jpeg
END:VEVENT
BEGIN:VEVENT
DTSTART;TZID=America/Los_Angeles:20260430T173000
DTEND;TZID=America/Los_Angeles:20260430T193000
DTSTAMP:20260424T032941
CREATED:20260320T202431Z
LAST-MODIFIED:20260320T202431Z
UID:10010680-1777570200-1777577400@bellefiorewine.com
SUMMARY:Live Music: Skye-Lee Duo
DESCRIPTION:Michaela Skye and Albert Lee’s meeting was nothing short of kismet. Their personalities\, musical preferences and stylings complement one another impeccably. Together they perform an eclectic variety of genres\, languages\, and high caliber of music.
URL:https://bellefiorewine.com/event/live-music-skye-lee-duo/
CATEGORIES:Live Music
ATTACH;FMTTYPE=image/jpeg:https://bellefiorewine.com/wp-content/uploads/2024/11/michaela-sky-and-albert-lee.jpg
END:VEVENT
BEGIN:VEVENT
DTSTART;TZID=America/Los_Angeles:20260501T173000
DTEND;TZID=America/Los_Angeles:20260501T193000
DTSTAMP:20260424T032941
CREATED:20260412T195129Z
LAST-MODIFIED:20260412T195129Z
UID:10010681-1777656600-1777663800@bellefiorewine.com
SUMMARY:Live Music: Jon Galfano
DESCRIPTION:Highly skilled and fun-loving guitar player & singer; plays classic rock songs from the 60’s\, 70’s & 80’s.
URL:https://bellefiorewine.com/event/live-music-jon-galfano-2/
CATEGORIES:Live Music
ATTACH;FMTTYPE=image/jpeg:https://bellefiorewine.com/wp-content/uploads/2022/05/Jonny-Biscuit-3-1-1-1.jpg
END:VEVENT
BEGIN:VEVENT
DTSTART;TZID=America/Los_Angeles:20260502T173000
DTEND;TZID=America/Los_Angeles:20260502T193000
DTSTAMP:20260424T032941
CREATED:20260412T200122Z
LAST-MODIFIED:20260412T200122Z
UID:10010682-1777743000-1777750200@bellefiorewine.com
SUMMARY:Live Music: Encore Five
DESCRIPTION:Talented 5-piece ensemble bringing passion and excitement to a wide range of music\, from Blues to Santana to Swing.
URL:https://bellefiorewine.com/event/live-music-encore-five/
CATEGORIES:Live Music
ATTACH;FMTTYPE=image/jpeg:https://bellefiorewine.com/wp-content/uploads/2026/04/EncoreFive.jpg
END:VEVENT
BEGIN:VEVENT
DTSTART;TZID=America/Los_Angeles:20260503T170000
DTEND;TZID=America/Los_Angeles:20260503T190000
DTSTAMP:20260424T032941
CREATED:20260412T211607Z
LAST-MODIFIED:20260412T211607Z
UID:10010683-1777827600-1777834800@bellefiorewine.com
SUMMARY:Live Music: Backdoor Blues
DESCRIPTION:Longtime Rogue Valley musicians specializing in good-time Blues and R&B\, guaranteed to have you on your feet! \nCover charge: Free for members\, $6 for non-members.
URL:https://bellefiorewine.com/event/live-music-backdoor-blues/
CATEGORIES:Live Music
ATTACH;FMTTYPE=image/jpeg:https://bellefiorewine.com/wp-content/uploads/2026/04/BackdoorBlues.jpg
END:VEVENT
BEGIN:VEVENT
DTSTART;TZID=America/Los_Angeles:20260507T173000
DTEND;TZID=America/Los_Angeles:20260507T193000
DTSTAMP:20260424T032941
CREATED:20260412T211853Z
LAST-MODIFIED:20260412T211853Z
UID:10010684-1778175000-1778182200@bellefiorewine.com
SUMMARY:Live Music: Aaron Reed
DESCRIPTION:Aaron Reed\, of the Brothers Reed. Their style evokes finger picking folk singers from the 60’s and 70’s with a contemporary and boundless bluegrass edge.
URL:https://bellefiorewine.com/event/live-music-aaron-reed/
CATEGORIES:Live Music
ATTACH;FMTTYPE=image/jpeg:https://bellefiorewine.com/wp-content/uploads/2021/02/aaron-reed.jpg
END:VEVENT
BEGIN:VEVENT
DTSTART;TZID=America/Los_Angeles:20260508T173000
DTEND;TZID=America/Los_Angeles:20260508T193000
DTSTAMP:20260424T032941
CREATED:20260412T212200Z
LAST-MODIFIED:20260412T212200Z
UID:10010685-1778261400-1778268600@bellefiorewine.com
SUMMARY:Live Music: Shae & Jenni
DESCRIPTION:Shae & Jenni present an alluring set of enchanting music\, full of soulful harmonies and magical moments perfect for creating an amazing ambiance. Enjoy the vibes as they blend their voices in harmony with piano\, creating an unforgettable musical experience.
URL:https://bellefiorewine.com/event/live-music-shae-jenni/
CATEGORIES:Live Music
ATTACH;FMTTYPE=image/jpeg:https://bellefiorewine.com/wp-content/uploads/2025/05/Shae-Jenni.jpg
END:VEVENT
BEGIN:VEVENT
DTSTART;TZID=America/Los_Angeles:20260509T173000
DTEND;TZID=America/Los_Angeles:20260509T193000
DTSTAMP:20260424T032941
CREATED:20260412T212445Z
LAST-MODIFIED:20260412T212445Z
UID:10010686-1778347800-1778355000@bellefiorewine.com
SUMMARY:Live Music: Dr. Pain & the Remedy
DESCRIPTION:Classic rock cover band that specializes in power pop\, folk\, country\, rock & roll\, and blues. All musicians play and sing\, resulting in harmonies and varied vocal arrangements. With many years of combined musical experience\, the band is tight and the show is engaging. \nCover charge: Free for members\, $6 for non-members
URL:https://bellefiorewine.com/event/live-music-dr-pain-the-remedy-2/
CATEGORIES:Live Music
ATTACH;FMTTYPE=image/jpeg:https://bellefiorewine.com/wp-content/uploads/2025/06/DrPainAndTheRemedy.jpeg
END:VEVENT
BEGIN:VEVENT
DTSTART;TZID=America/Los_Angeles:20260510T120000
DTEND;TZID=America/Los_Angeles:20260510T140000
DTSTAMP:20260424T032941
CREATED:20260412T212709Z
LAST-MODIFIED:20260412T212709Z
UID:10010687-1778414400-1778421600@bellefiorewine.com
SUMMARY:Live Music: Dos Palomas
DESCRIPTION:This instrumental duo features Sean Chon on upright bass & Jason Wolverton on guitar\, specializing in Bossa Nova & Early Jazz.
URL:https://bellefiorewine.com/event/live-music-dos-palomas/
CATEGORIES:Live Music
ATTACH;FMTTYPE=image/jpeg:https://bellefiorewine.com/wp-content/uploads/2026/01/SeanJason.jpg
END:VEVENT
BEGIN:VEVENT
DTSTART;TZID=America/Los_Angeles:20260510T170000
DTEND;TZID=America/Los_Angeles:20260510T190000
DTSTAMP:20260424T032941
CREATED:20260412T213434Z
LAST-MODIFIED:20260412T213434Z
UID:10010688-1778432400-1778439600@bellefiorewine.com
SUMMARY:Live Music: Malinka
DESCRIPTION:Come be enchanted this Mother’s Day with this group of multitalented musicians performing groovy beats\, drum and bass breakdowns\, clarinet\, saxophone\, guitar\, violin\, and a variety of different languages!
URL:https://bellefiorewine.com/event/live-music-malinka/
CATEGORIES:Live Music
ATTACH;FMTTYPE=image/jpeg:https://bellefiorewine.com/wp-content/uploads/2024/07/Malinka-scaled-e1724272657598.jpeg
END:VEVENT
BEGIN:VEVENT
DTSTART;TZID=America/Los_Angeles:20260514T173000
DTEND;TZID=America/Los_Angeles:20260514T193000
DTSTAMP:20260424T032941
CREATED:20260412T214244Z
LAST-MODIFIED:20260412T214244Z
UID:10010689-1778779800-1778787000@bellefiorewine.com
SUMMARY:Live Music: Rogue Hot Club
DESCRIPTION:The Rogue Hot Club is a musical group that performs Minor Swing and upbeat gypsy jazz tunes\, known for its lively and energetic performances. The talented musicians bring a unique blend of jazz and gypsy influences to their music\, a sound both fresh and familiar.
URL:https://bellefiorewine.com/event/live-music-rogue-hot-club/
CATEGORIES:Live Music
ATTACH;FMTTYPE=image/jpeg:https://bellefiorewine.com/wp-content/uploads/2025/05/Rogue-Hot-Club-scaled.jpeg
END:VEVENT
BEGIN:VEVENT
DTSTART;TZID=America/Los_Angeles:20260515T173000
DTEND;TZID=America/Los_Angeles:20260515T193000
DTSTAMP:20260424T032941
CREATED:20260412T214406Z
LAST-MODIFIED:20260412T214406Z
UID:10010690-1778866200-1778873400@bellefiorewine.com
SUMMARY:Live Music: Jeff Kloetzel
DESCRIPTION:Solo singer\, songwriter and guitarist who has played at Belle Fiore since our beginning! Jeff’s genre is a wide range from modern folk pop to soul\, country-tinged rock to Americana and simple songwriter material.
URL:https://bellefiorewine.com/event/live-music-jeff-kloetzel/
CATEGORIES:Live Music
ATTACH;FMTTYPE=image/webp:https://bellefiorewine.com/wp-content/uploads/2024/01/Jeff-Kloetzel.webp
END:VEVENT
BEGIN:VEVENT
DTSTART;TZID=America/Los_Angeles:20260516T173000
DTEND;TZID=America/Los_Angeles:20260516T193000
DTSTAMP:20260424T032941
CREATED:20260412T214528Z
LAST-MODIFIED:20260412T223023Z
UID:10010691-1778952600-1778959800@bellefiorewine.com
SUMMARY:Live Music: Saucy
DESCRIPTION:Saucy is a 5-piece premiere variety party band & tribute act with a wide range of hits and genres. You’ll be dancing the night away! \nCover charge: Free for members\, $9 for non-members
URL:https://bellefiorewine.com/event/live-music-pozitronics/
CATEGORIES:Live Music
ATTACH;FMTTYPE=image/jpeg:https://bellefiorewine.com/wp-content/uploads/2026/04/Saucy.jpg
END:VEVENT
BEGIN:VEVENT
DTSTART;TZID=America/Los_Angeles:20260517T173000
DTEND;TZID=America/Los_Angeles:20260517T193000
DTSTAMP:20260424T032941
CREATED:20260412T215207Z
LAST-MODIFIED:20260412T215207Z
UID:10010692-1779039000-1779046200@bellefiorewine.com
SUMMARY:Live Music: Petty Thievery
DESCRIPTION:A band of veteran musicians who have joined together to honor the music of Tom Petty. Each bring their love for Petty’s songs and the music of the Heartbreakers to this acclaimed rock and roll tribute. \nThis is a ticketed event! Purchase your tickets here.
URL:https://bellefiorewine.com/event/live-music-petty-thievery/
CATEGORIES:Live Music
ATTACH;FMTTYPE=image/webp:https://bellefiorewine.com/wp-content/uploads/2026/04/PettyThievery2.webp
END:VEVENT
BEGIN:VEVENT
DTSTART;TZID=America/Los_Angeles:20260521T173000
DTEND;TZID=America/Los_Angeles:20260521T193000
DTSTAMP:20260424T032941
CREATED:20260412T222055Z
LAST-MODIFIED:20260412T222055Z
UID:10010693-1779384600-1779391800@bellefiorewine.com
SUMMARY:Live Music: Blue Lightning
DESCRIPTION:Established over 30 years ago in Ashland Oregon\, Blue Lightning has evolved into a high energy dance band with tight grooves and lush vocal harmonies. The current lineup includes three founding members: Sue Lundquist on keyboard\, guitar and Djembe\, Rhonda Loftis who lays down the beat on her drum kits\, and Trish Cook on lead and backup vocals. Crystal Reeves plays violin\, fiddle and mandolin\, sings lead and backup. Cedric Buckingham holds down the bottom on bass guitar. Dan Day plays lead guitar\, flute and harmonica. Dianne Strong-Summerhays provides the icing on the cake with her sultry\, soulful lead vocals. \nCover Charge: Free for Members\, $9 for Non-Members
URL:https://bellefiorewine.com/event/live-music-blue-lightning/
CATEGORIES:Live Music
ATTACH;FMTTYPE=image/jpeg:https://bellefiorewine.com/wp-content/uploads/2025/03/BluestLightning.jpg
END:VEVENT
BEGIN:VEVENT
DTSTART;TZID=America/Los_Angeles:20260522T173000
DTEND;TZID=America/Los_Angeles:20260522T193000
DTSTAMP:20260424T032941
CREATED:20260412T222214Z
LAST-MODIFIED:20260412T222214Z
UID:10010694-1779471000-1779478200@bellefiorewine.com
SUMMARY:Live Music: Jones
DESCRIPTION:The duo of Joshua Jones and Shelley Kristen Jones.  Joshua is a gifted guitarist\, singer and arranger.  Shelley is a talented singer\, songwriter and producer.  The two powerful and passionate vocalists perform some original music\, but mainly cover songs from Classic Rock\, R&B\, Pop\, Folk\, Country\, and Jazz Standards.
URL:https://bellefiorewine.com/event/live-music-jones-2/
CATEGORIES:Live Music
ATTACH;FMTTYPE=image/jpeg:https://bellefiorewine.com/wp-content/uploads/2021/07/JONES-e1725832268974.jpg
END:VEVENT
BEGIN:VEVENT
DTSTART;TZID=America/Los_Angeles:20260523T173000
DTEND;TZID=America/Los_Angeles:20260523T193000
DTSTAMP:20260424T032941
CREATED:20260412T224038Z
LAST-MODIFIED:20260412T224038Z
UID:10010695-1779557400-1779564600@bellefiorewine.com
SUMMARY:Live Music: Pozitronics
DESCRIPTION:The Pozitronics is the Rogue Valley’s premier all-you-can dance band\, consistently bringing positive vibes & upbeat tunes in classic rock\, R&B\, & pop styles\, performed by a fun-loving group of talented musicians. \nCover charge: Free for members\, $6 for non-members
URL:https://bellefiorewine.com/event/live-music-pozitronics-2/
CATEGORIES:Live Music
ATTACH;FMTTYPE=image/png:https://bellefiorewine.com/wp-content/uploads/2025/11/pozitronics.png
END:VEVENT
BEGIN:VEVENT
DTSTART;TZID=America/Los_Angeles:20260524T170000
DTEND;TZID=America/Los_Angeles:20260524T190000
DTSTAMP:20260424T032941
CREATED:20260412T224203Z
LAST-MODIFIED:20260412T224203Z
UID:10010696-1779642000-1779649200@bellefiorewine.com
SUMMARY:Live Music: Duke Street
DESCRIPTION:Big Band Blues that’ll have you dancing and rollicking the night away. \nCover charge: Free for members\, $6 for non-members
URL:https://bellefiorewine.com/event/live-music-duke-street/
CATEGORIES:Live Music
ATTACH;FMTTYPE=image/jpeg:https://bellefiorewine.com/wp-content/uploads/2023/08/Duke-Street-photo-scaled.jpg
END:VEVENT
BEGIN:VEVENT
DTSTART;TZID=America/Los_Angeles:20260528T173000
DTEND;TZID=America/Los_Angeles:20260528T193000
DTSTAMP:20260424T032941
CREATED:20260412T225258Z
LAST-MODIFIED:20260412T225258Z
UID:10010697-1779989400-1779996600@bellefiorewine.com
SUMMARY:Live Music: Phil Reed
DESCRIPTION:Phil Reed\, of the Brothers Reed. Their style evokes finger picking folk singers from the 60’s and 70’s with a contemporary and boundless bluegrass edge.
URL:https://bellefiorewine.com/event/live-music-phil-reed/
CATEGORIES:Live Music
ATTACH;FMTTYPE=image/jpeg:https://bellefiorewine.com/wp-content/uploads/2019/05/Phillip-Reed-e1558718171783.jpg
END:VEVENT
BEGIN:VEVENT
DTSTART;TZID=America/Los_Angeles:20260529T173000
DTEND;TZID=America/Los_Angeles:20260529T193000
DTSTAMP:20260424T032941
CREATED:20260412T225827Z
LAST-MODIFIED:20260412T225827Z
UID:10010698-1780075800-1780083000@bellefiorewine.com
SUMMARY:Live Music: The Keller Sisters
DESCRIPTION:Two sisters steeped in musical background\, their original music is filled with close harmony\, humor & warmth\, and inspired by their love of Folk\, Blues\, Americana & Musical Theater.
URL:https://bellefiorewine.com/event/live-music-the-keller-sisters/
CATEGORIES:Live Music
ATTACH;FMTTYPE=image/webp:https://bellefiorewine.com/wp-content/uploads/2026/04/KellerSisters.webp
END:VEVENT
BEGIN:VEVENT
DTSTART;TZID=America/Los_Angeles:20260531T170000
DTEND;TZID=America/Los_Angeles:20260531T190000
DTSTAMP:20260424T032941
CREATED:20260412T230033Z
LAST-MODIFIED:20260412T230033Z
UID:10010700-1780246800-1780254000@bellefiorewine.com
SUMMARY:Live Music: Rod Petrone
DESCRIPTION:Rod’s musical repertoire is as diverse as it is impressive\, encompassing a rich tapestry of international sounds from the sultry rhythms of Brazilian music to the lively strains of Latin American\, the romantic melodies of French musette\, and the passionate intensity of tango.
URL:https://bellefiorewine.com/event/live-music-rod-petrone/
CATEGORIES:Live Music
ATTACH;FMTTYPE=image/jpeg:https://bellefiorewine.com/wp-content/uploads/2022/04/Rod-Petrone-New.jpg
END:VEVENT
BEGIN:VEVENT
DTSTART;TZID=America/Los_Angeles:20260604T173000
DTEND;TZID=America/Los_Angeles:20260604T193000
DTSTAMP:20260424T032941
CREATED:20260418T212706Z
LAST-MODIFIED:20260418T212706Z
UID:10010702-1780594200-1780601400@bellefiorewine.com
SUMMARY:Live Music: Lisa & Dean
DESCRIPTION:The duo features Lisa Udall on lead vocals and Dean Angermeier on keyboard & vocals. The group plays a fun\, eclectic mix of pop\, jazz\, blues\, R&B\, & country.
URL:https://bellefiorewine.com/event/live-music-lisa-dean-2/
CATEGORIES:Live Music
ATTACH;FMTTYPE=image/jpeg:https://bellefiorewine.com/wp-content/uploads/2024/05/lisa-and-dean.jpg
END:VEVENT
END:VCALENDAR